BEGIN:VCALENDAR
VERSION:2.0
METHOD:PUBLISH
BEGIN:VEVENT
UID:WILD_APRICOT_EVENT_2663584_SESSION_1
DTSTART:20171123T063000Z
DTEND:20171123T083000Z
SUMMARY:Recent innovations in restorative practice
LOCATION:Law Institute of Victoria\, 470 Bourke St\, Melbourne VIC 3000
DESCRIPTION:https://www.varj.asn.au/event-2663584\n\nPlease join us to hear from advocates\, administrators\, & facilitators\n  TOPICS\n  Canberra Magistrates Court referring family violence cases - Amanda Lutz: Manager\, ACT Restorative Justice Unit\nGroup conferencing in Victoria & the Northern Territory - Glen McClure: Manager\, Community Justice\, JSS\n \n Navigator Program: reengaging young people with school - Genevieve Higgins: Navigator Coordinator\, Hume-Moreland JSS  Adolescent Family Violence programs - Representatives from service-providers & facilitators\n  Restorative Engagement & national redress scheme Direct Personal Response - David Moore: VARJ President & principal consultant to RE & DPR programs\n   \n   \n   \n   \n   \n   \n   \n   \n  \n\n
DTSTAMP:20200227T174844Z
END:VEVENT
END:VCALENDAR
